BEGIN:VCALENDAR
VERSION:2.0
PRODID:-//Pathfinders - ECPv6.15.18//NONSGML v1.0//EN
CALSCALE:GREGORIAN
METHOD:PUBLISH
X-ORIGINAL-URL:https://pathfinders.ngo
X-WR-CALDESC:Events for Pathfinders
REFRESH-INTERVAL;VALUE=DURATION:PT1H
X-Robots-Tag:noindex
X-PUBLISHED-TTL:PT1H
BEGIN:VTIMEZONE
TZID:Australia/Sydney
BEGIN:STANDARD
TZOFFSETFROM:+1100
TZOFFSETTO:+1000
TZNAME:AEST
DTSTART:20250405T160000
END:STANDARD
BEGIN:DAYLIGHT
TZOFFSETFROM:+1000
TZOFFSETTO:+1100
TZNAME:AEDT
DTSTART:20251004T160000
END:DAYLIGHT
BEGIN:STANDARD
TZOFFSETFROM:+1100
TZOFFSETTO:+1000
TZNAME:AEST
DTSTART:20260404T160000
END:STANDARD
BEGIN:DAYLIGHT
TZOFFSETFROM:+1000
TZOFFSETTO:+1100
TZNAME:AEDT
DTSTART:20261003T160000
END:DAYLIGHT
BEGIN:STANDARD
TZOFFSETFROM:+1100
TZOFFSETTO:+1000
TZNAME:AEST
DTSTART:20270403T160000
END:STANDARD
BEGIN:DAYLIGHT
TZOFFSETFROM:+1000
TZOFFSETTO:+1100
TZNAME:AEDT
DTSTART:20271002T160000
END:DAYLIGHT
END:VTIMEZONE
BEGIN:VEVENT
DTSTART;TZID=Australia/Sydney:20260416T000000
DTEND;TZID=Australia/Sydney:20260426T235959
DTSTAMP:20260422T221608
CREATED:20260112T215737Z
LAST-MODIFIED:20260113T000249Z
UID:11962-1776297600-1777247999@pathfinders.ngo
SUMMARY:NSW Youth Week
DESCRIPTION:NSW Youth Week 2026 is set for April 16th to April 26th\, 2026\, a state-wide event celebrating young people (ages 12-24) through local events\, talent showcases\, and community engagement\, with themes being voted on by youth\, and funding available from councils for activities. 
URL:https://pathfinders.ngo/event/nsw-youth-week-2026/
END:VEVENT
BEGIN:VEVENT
DTSTART;TZID=Australia/Sydney:20260422T100000
DTEND;TZID=Australia/Sydney:20260422T140000
DTSTAMP:20260422T221608
CREATED:20260408T035616Z
LAST-MODIFIED:20260408T035616Z
UID:12363-1776852000-1776866400@pathfinders.ngo
SUMMARY:PNABC – sign up event – Boggabilla
DESCRIPTION:Community members are invited to attend a Birth Certificate Sign-Up Event\, providing support to apply for and obtain a birth certificate. This event is a welcoming space for people who may not have a birth certificate\, or who need assistance with the application process. Staff will be available to guide attendees through completing applications\, answering questions\, and providing information about the process. No appointment is necessary – drop in anytime during the event. \n\n\n\nEvent: Pathfinders National Aboriginal Birth Certificate Program – BoggabillaDate: Wednesday\, 22 April 2026Time: 10:00 AM – 2:00 PMLocation: TAFE NSW – Boggabilla\, South St\, Boggabilla NSW 2409Phone: 13 16 01
URL:https://pathfinders.ngo/event/pnabc-sign-up-event-boggabilla/
CATEGORIES:National Aboriginal Birth Certificate
END:VEVENT
BEGIN:VEVENT
DTSTART;TZID=Australia/Sydney:20260424T100000
DTEND;TZID=Australia/Sydney:20260424T140000
DTSTAMP:20260422T221608
CREATED:20260408T035822Z
LAST-MODIFIED:20260408T035823Z
UID:12365-1777024800-1777039200@pathfinders.ngo
SUMMARY:PNABC – sign up event – Mungindi
DESCRIPTION:Description: Community members are invited to attend a Birth Certificate Sign-Up Event\, providing support to apply for and obtain a birth certificate. This event is a welcoming space for people who may not have a birth certificate\, or who need assistance with the application process. Staff will be available to guide attendees through completing applications\, answering questions\, and providing information about the process. No appointment is necessary – drop in anytime during the event. \n\n\n\nEvent: Pathfinders National Aboriginal Birth Certificate Program – MungindiDate: Friday\, 24 April 2026Time: 10:00 AM – 2:00 PMLocation: Mungindi Local Aboriginal Land Council\, 47 Goondiwindi St\, Mungindi NSW 2406Phone: 13 16 01
URL:https://pathfinders.ngo/event/pnabc-sign-up-event-mungindi/
CATEGORIES:National Aboriginal Birth Certificate
END:VEVENT
BEGIN:VEVENT
DTSTART;TZID=Australia/Sydney:20260425T000000
DTEND;TZID=Australia/Sydney:20260425T235959
DTSTAMP:20260422T221608
CREATED:20260112T215901Z
LAST-MODIFIED:20260113T000316Z
UID:11964-1777075200-1777161599@pathfinders.ngo
SUMMARY:ANZAC Day
DESCRIPTION:Anzac Day\, on April 25th\, is Australia’s national day of remembrance for all Australians who served and died in wars\, conflicts\, and peacekeeping operations\, originating from the first major landing of Australian and New Zealand troops (ANZACs) at Gallipoli in 1915.
URL:https://pathfinders.ngo/event/anzac-day-2026/
END:VEVENT
BEGIN:VEVENT
DTSTART;TZID=Australia/Sydney:20260429T093000
DTEND;TZID=Australia/Sydney:20260429T120000
DTSTAMP:20260422T221608
CREATED:20260420T054255Z
LAST-MODIFIED:20260420T055110Z
UID:12405-1777455000-1777464000@pathfinders.ngo
SUMMARY:Ashford Support Day
DESCRIPTION:Pathfinders Integrated Domestic and Family Violence Service will be hosting an Ashford Drop-in Support Day at the Aboriginal Land Council\, 25 Albury Street\, Ashford. \n\n\n\nThis is a safe and welcoming space for individuals and families seeking support. Our team will be available to assist with safety planning\, provide emotional support\, and offer referrals to a range of services. Support is available for housing\, legal and financial matters\, as well as practical assistance and ongoing casework. \n\n\n\nNo appointment is needed – community members are welcome to drop in and speak with our friendly team.
URL:https://pathfinders.ngo/event/ashford-support-day/
END:VEVENT
END:VCALENDAR