BEGIN:VCALENDAR
VERSION:2.0
PRODID:-//Pathfinders - ECPv6.15.18//NONSGML v1.0//EN
CALSCALE:GREGORIAN
METHOD:PUBLISH
X-WR-CALNAME:Pathfinders
X-ORIGINAL-URL:https://pathfinders.ngo
X-WR-CALDESC:Events for Pathfinders
REFRESH-INTERVAL;VALUE=DURATION:PT1H
X-Robots-Tag:noindex
X-PUBLISHED-TTL:PT1H
BEGIN:VTIMEZONE
TZID:Australia/Sydney
BEGIN:STANDARD
TZOFFSETFROM:+1100
TZOFFSETTO:+1000
TZNAME:AEST
DTSTART:20250405T160000
END:STANDARD
BEGIN:DAYLIGHT
TZOFFSETFROM:+1000
TZOFFSETTO:+1100
TZNAME:AEDT
DTSTART:20251004T160000
END:DAYLIGHT
BEGIN:STANDARD
TZOFFSETFROM:+1100
TZOFFSETTO:+1000
TZNAME:AEST
DTSTART:20260404T160000
END:STANDARD
BEGIN:DAYLIGHT
TZOFFSETFROM:+1000
TZOFFSETTO:+1100
TZNAME:AEDT
DTSTART:20261003T160000
END:DAYLIGHT
BEGIN:STANDARD
TZOFFSETFROM:+1100
TZOFFSETTO:+1000
TZNAME:AEST
DTSTART:20270403T160000
END:STANDARD
BEGIN:DAYLIGHT
TZOFFSETFROM:+1000
TZOFFSETTO:+1100
TZNAME:AEDT
DTSTART:20271002T160000
END:DAYLIGHT
END:VTIMEZONE
BEGIN:VEVENT
DTSTART;TZID=Australia/Sydney:20260403T080000
DTEND;TZID=Australia/Sydney:20260416T233000
DTSTAMP:20260420T060734
CREATED:20260326T044128Z
LAST-MODIFIED:20260326T044130Z
UID:12328-1775203200-1776382200@pathfinders.ngo
SUMMARY:Youth Week Fishing Competition
DESCRIPTION:Delivered by Pathfinders Inverell Family Youth Support Service\, the Youth Week Fishing Competition 2026 is open to young people aged 12 to 24 living in the Inverell Shire. Running across the school holiday period\, the competition encourages participants to explore local waterways\, spend time outdoors\, and connect with their community. \n\n\n\nParticipants can enter by submitting photos of their catch along with the official competition code word\, released on the Pathfinders Facebook page on 2 April 2026. Multiple entries are encouraged\, with every valid submission going into the draw to win prizes. \n\n\n\nPrize categories include most fish caught (over 10cm)\, random draw prizes\, and best photo submission\, with a focus on creativity and fun. All entrants have a chance to win\, regardless of catch size. \n\n\n\nWe’ve had incredible support from our community\, with prizes including: Rod and reel combos\, hats and shirts from Motackle and Outdoors\, an Abu Garcia MaxPro rod and reel combo and a large Shimano tackle bag kindly donated by Project Fishing Inverell\, prizes and resources from the NSW Fisheries and a voucher from Inverell Sporties. \n\n\n\nThe major prize is an Outpost Expedition Package valued at $1800\, generously donated by Severn River Outpost\, including accommodation\, meals\, and a guided fishing experience. \n\n\n\nRegister for the Youth Week Fishing Competition and view full competition details here.
URL:https://pathfinders.ngo/event/youth-week-fishing-competition/
END:VEVENT
BEGIN:VEVENT
DTSTART;TZID=Australia/Sydney:20260408T090000
DTEND;TZID=Australia/Sydney:20260408T150000
DTSTAMP:20260420T060734
CREATED:20260324T230801Z
LAST-MODIFIED:20260324T230933Z
UID:12300-1775638800-1775660400@pathfinders.ngo
SUMMARY:PNABC - sign up event CEDUNA
DESCRIPTION:Birth Certificate Sign-Up Event – Ceduna \n\n\n\nCommunity members are invited to attend a Birth Certificate Sign-Up Event in Ceduna\, South Australia\, providing support to apply for and obtain a birth certificate. \n\n\n\nThis event is a great opportunity for people who may not have a birth certificate\, or who need assistance with the application process\, to receive guidance and support in a welcoming and accessible environment. \n\n\n\nEvent DetailsDate: Wednesday\, 8 April 2026Time: 9:30am – 3:00pmLocation: Far West Aboriginal Sporting ComplexBergmann Drive\, Ceduna SA 5690Host: Ceduna Aboriginal CorporationPhone: 08 8625 3210 \n\n\n\nStaff will be available on the day to assist with completing applications\, answering questions\, and providing information about the process. \n\n\n\nNo appointment is necessary – community members are welcome to drop in at any time during the event.
URL:https://pathfinders.ngo/event/pnabc-sign-up-event-ceduna/
CATEGORIES:National Aboriginal Birth Certificate
END:VEVENT
BEGIN:VEVENT
DTSTART;TZID=Australia/Sydney:20260408T100000
DTEND;TZID=Australia/Sydney:20260408T130000
DTSTAMP:20260420T060734
CREATED:20260326T040202Z
LAST-MODIFIED:20260326T040203Z
UID:12315-1775642400-1775653200@pathfinders.ngo
SUMMARY:Tingha School Holiday Program
DESCRIPTION:Delivered by Pathfinders Inverell Family Youth Support Service\, the Tingha School Holiday Program provides a free\, safe and inclusive space for children\, young people and families. The program includes fun activities such as cooking\, craft and water play\, with a free lunch available for all participants. It’s a great opportunity to stay active\, connect with others\, and enjoy the school holidays in a supportive environment.
URL:https://pathfinders.ngo/event/tingha-school-holiday-program/
END:VEVENT
BEGIN:VEVENT
DTSTART;TZID=Australia/Sydney:20260408T133000
DTEND;TZID=Australia/Sydney:20260408T150000
DTSTAMP:20260420T060734
CREATED:20260326T040353Z
LAST-MODIFIED:20260326T040354Z
UID:12318-1775655000-1775660400@pathfinders.ngo
SUMMARY:Headlice Treatment and Workshops – Tingha
DESCRIPTION:Delivered by Pathfinders Inverell Family Youth Support Service\, these free headlice treatment and workshop sessions support the health and wellbeing of local children and families. The sessions provide practical treatment\, advice and prevention strategies\, helping to reduce a common barrier to school attendance in a respectful and supportive setting.
URL:https://pathfinders.ngo/event/headlice-treatment-and-workshops-tingha/
END:VEVENT
END:VCALENDAR