BEGIN:VCALENDAR
VERSION:2.0
PRODID:-//Pathfinders - ECPv6.15.18//NONSGML v1.0//EN
CALSCALE:GREGORIAN
METHOD:PUBLISH
X-WR-CALNAME:Pathfinders
X-ORIGINAL-URL:https://pathfinders.ngo
X-WR-CALDESC:Events for Pathfinders
REFRESH-INTERVAL;VALUE=DURATION:PT1H
X-Robots-Tag:noindex
X-PUBLISHED-TTL:PT1H
BEGIN:VTIMEZONE
TZID:Australia/Sydney
BEGIN:STANDARD
TZOFFSETFROM:+1100
TZOFFSETTO:+1000
TZNAME:AEST
DTSTART:20250405T160000
END:STANDARD
BEGIN:DAYLIGHT
TZOFFSETFROM:+1000
TZOFFSETTO:+1100
TZNAME:AEDT
DTSTART:20251004T160000
END:DAYLIGHT
BEGIN:STANDARD
TZOFFSETFROM:+1100
TZOFFSETTO:+1000
TZNAME:AEST
DTSTART:20260404T160000
END:STANDARD
BEGIN:DAYLIGHT
TZOFFSETFROM:+1000
TZOFFSETTO:+1100
TZNAME:AEDT
DTSTART:20261003T160000
END:DAYLIGHT
BEGIN:STANDARD
TZOFFSETFROM:+1100
TZOFFSETTO:+1000
TZNAME:AEST
DTSTART:20270403T160000
END:STANDARD
BEGIN:DAYLIGHT
TZOFFSETFROM:+1000
TZOFFSETTO:+1100
TZNAME:AEDT
DTSTART:20271002T160000
END:DAYLIGHT
END:VTIMEZONE
BEGIN:VEVENT
DTSTART;TZID=Australia/Sydney:20260501T000000
DTEND;TZID=Australia/Sydney:20260531T235959
DTSTAMP:20260420T061007
CREATED:20260112T220154Z
LAST-MODIFIED:20260112T220154Z
UID:11966-1777593600-1780271999@pathfinders.ngo
SUMMARY:Domestic Violence Prevention Month
DESCRIPTION:Domestic and Family Violence Prevention Month is an annual event held each May to raise community awareness of the social and personal impacts of domestic and family violence and the support available to those affected.
URL:https://pathfinders.ngo/event/domestic-violence-prevention-month/
END:VEVENT
BEGIN:VEVENT
DTSTART;TZID=Australia/Sydney:20260526T000000
DTEND;TZID=Australia/Sydney:20260526T235959
DTSTAMP:20260420T061007
CREATED:20260112T220349Z
LAST-MODIFIED:20260113T000331Z
UID:11968-1779753600-1779839999@pathfinders.ngo
SUMMARY:National Sorry Day
DESCRIPTION:National Sorry Day\, held annually on May 26th in Australia\, is a day to acknowledge the history and ongoing impacts of the forced removal of Aboriginal and Torres Strait Islander children from their families\, known as the “Stolen Generations”. It commemorates the tabling of the Bringing Them Home report in 1997\, promoting healing\, truth-telling\, and reconciliation by reflecting on past injustices and the resilience of First Nations communities\, leading into National Reconciliation Week. 
URL:https://pathfinders.ngo/event/national-sorry-day-2026/
END:VEVENT
END:VCALENDAR