BEGIN:VCALENDAR
VERSION:2.0
PRODID:-//Pathfinders - ECPv6.15.18//NONSGML v1.0//EN
CALSCALE:GREGORIAN
METHOD:PUBLISH
X-WR-CALNAME:Pathfinders
X-ORIGINAL-URL:https://pathfinders.ngo
X-WR-CALDESC:Events for Pathfinders
REFRESH-INTERVAL;VALUE=DURATION:PT1H
X-Robots-Tag:noindex
X-PUBLISHED-TTL:PT1H
BEGIN:VTIMEZONE
TZID:Australia/Sydney
BEGIN:STANDARD
TZOFFSETFROM:+1100
TZOFFSETTO:+1000
TZNAME:AEST
DTSTART:20250405T160000
END:STANDARD
BEGIN:DAYLIGHT
TZOFFSETFROM:+1000
TZOFFSETTO:+1100
TZNAME:AEDT
DTSTART:20251004T160000
END:DAYLIGHT
BEGIN:STANDARD
TZOFFSETFROM:+1100
TZOFFSETTO:+1000
TZNAME:AEST
DTSTART:20260404T160000
END:STANDARD
BEGIN:DAYLIGHT
TZOFFSETFROM:+1000
TZOFFSETTO:+1100
TZNAME:AEDT
DTSTART:20261003T160000
END:DAYLIGHT
BEGIN:STANDARD
TZOFFSETFROM:+1100
TZOFFSETTO:+1000
TZNAME:AEST
DTSTART:20270403T160000
END:STANDARD
BEGIN:DAYLIGHT
TZOFFSETFROM:+1000
TZOFFSETTO:+1100
TZNAME:AEDT
DTSTART:20271002T160000
END:DAYLIGHT
END:VTIMEZONE
BEGIN:VEVENT
DTSTART;TZID=Australia/Sydney:20260902T000000
DTEND;TZID=Australia/Sydney:20260902T235959
DTSTAMP:20260420T101530
CREATED:20260112T222321Z
LAST-MODIFIED:20260113T000445Z
UID:11978-1788307200-1788393599@pathfinders.ngo
SUMMARY:Indigenous Literacy Day
DESCRIPTION:Indigenous Literacy Day in 2026 will be celebrated on Wednesday\, September 2nd\, as it’s held annually on the first Wednesday of September\, focusing on improving literacy in remote Aboriginal and Torres Strait Islander communities by providing culturally relevant books and resources. Hosted by the Indigenous Literacy Foundation (ILF)\, the day raises awareness\, celebrates Indigenous stories and languages\, and raises funds for community-led literacy programs. 
URL:https://pathfinders.ngo/event/indigenous-literacy-day-2026/
END:VEVENT
END:VCALENDAR