BEGIN:VCALENDAR
VERSION:2.0
PRODID:-//Pathfinders - ECPv6.15.18//NONSGML v1.0//EN
CALSCALE:GREGORIAN
METHOD:PUBLISH
X-ORIGINAL-URL:https://pathfinders.ngo
X-WR-CALDESC:Events for Pathfinders
REFRESH-INTERVAL;VALUE=DURATION:PT1H
X-Robots-Tag:noindex
X-PUBLISHED-TTL:PT1H
BEGIN:VTIMEZONE
TZID:Australia/Sydney
BEGIN:STANDARD
TZOFFSETFROM:+1100
TZOFFSETTO:+1000
TZNAME:AEST
DTSTART:20250405T160000
END:STANDARD
BEGIN:DAYLIGHT
TZOFFSETFROM:+1000
TZOFFSETTO:+1100
TZNAME:AEDT
DTSTART:20251004T160000
END:DAYLIGHT
BEGIN:STANDARD
TZOFFSETFROM:+1100
TZOFFSETTO:+1000
TZNAME:AEST
DTSTART:20260404T160000
END:STANDARD
BEGIN:DAYLIGHT
TZOFFSETFROM:+1000
TZOFFSETTO:+1100
TZNAME:AEDT
DTSTART:20261003T160000
END:DAYLIGHT
BEGIN:STANDARD
TZOFFSETFROM:+1100
TZOFFSETTO:+1000
TZNAME:AEST
DTSTART:20270403T160000
END:STANDARD
BEGIN:DAYLIGHT
TZOFFSETFROM:+1000
TZOFFSETTO:+1100
TZNAME:AEDT
DTSTART:20271002T160000
END:DAYLIGHT
END:VTIMEZONE
BEGIN:VEVENT
DTSTART;TZID=Australia/Sydney:20261125T000000
DTEND;TZID=Australia/Sydney:20261210T235959
DTSTAMP:20260420T155809
CREATED:20260112T235624Z
LAST-MODIFIED:20260112T235625Z
UID:11993-1795564800-1796947199@pathfinders.ngo
SUMMARY:The 16 Days of Activism Against Gender-Based Violence
DESCRIPTION:The Global 16 Days Campaign is an international campaign to challenge violence against women and girls.
URL:https://pathfinders.ngo/event/the-16-days-of-activism-against-gender-based-violence/
ATTACH;FMTTYPE=image/webp:https://pathfinders.ngo/wp-content/uploads/2026/01/16dayslogo.webp
END:VEVENT
BEGIN:VEVENT
DTSTART;TZID=Australia/Sydney:20261210T000000
DTEND;TZID=Australia/Sydney:20261210T235959
DTSTAMP:20260420T155809
CREATED:20260113T000058Z
LAST-MODIFIED:20260113T000059Z
UID:11999-1796860800-1796947199@pathfinders.ngo
SUMMARY:Human Rights Day
DESCRIPTION:Human Rights Day marks the anniversary of the 1948 UN adoption of the Universal Declaration of Human Rights (UDHR) and focusing on raising awareness and upholding fundamental freedoms for all people globally. 
URL:https://pathfinders.ngo/event/human-rights-day/
END:VEVENT
END:VCALENDAR