BEGIN:VCALENDAR
VERSION:2.0
PRODID:-//Pathfinders - ECPv6.15.18//NONSGML v1.0//EN
CALSCALE:GREGORIAN
METHOD:PUBLISH
X-WR-CALNAME:Pathfinders
X-ORIGINAL-URL:https://pathfinders.ngo
X-WR-CALDESC:Events for Pathfinders
REFRESH-INTERVAL;VALUE=DURATION:PT1H
X-Robots-Tag:noindex
X-PUBLISHED-TTL:PT1H
BEGIN:VTIMEZONE
TZID:Australia/Sydney
BEGIN:STANDARD
TZOFFSETFROM:+1100
TZOFFSETTO:+1000
TZNAME:AEST
DTSTART:20240406T160000
END:STANDARD
BEGIN:DAYLIGHT
TZOFFSETFROM:+1000
TZOFFSETTO:+1100
TZNAME:AEDT
DTSTART:20241005T160000
END:DAYLIGHT
BEGIN:STANDARD
TZOFFSETFROM:+1100
TZOFFSETTO:+1000
TZNAME:AEST
DTSTART:20250405T160000
END:STANDARD
BEGIN:DAYLIGHT
TZOFFSETFROM:+1000
TZOFFSETTO:+1100
TZNAME:AEDT
DTSTART:20251004T160000
END:DAYLIGHT
BEGIN:STANDARD
TZOFFSETFROM:+1100
TZOFFSETTO:+1000
TZNAME:AEST
DTSTART:20260404T160000
END:STANDARD
BEGIN:DAYLIGHT
TZOFFSETFROM:+1000
TZOFFSETTO:+1100
TZNAME:AEDT
DTSTART:20261003T160000
END:DAYLIGHT
BEGIN:STANDARD
TZOFFSETFROM:+1100
TZOFFSETTO:+1000
TZNAME:AEST
DTSTART:20270403T160000
END:STANDARD
BEGIN:DAYLIGHT
TZOFFSETFROM:+1000
TZOFFSETTO:+1100
TZNAME:AEDT
DTSTART:20271002T160000
END:DAYLIGHT
END:VTIMEZONE
BEGIN:VEVENT
DTSTART;TZID=Australia/Sydney:20260129T100000
DTEND;TZID=Australia/Sydney:20260129T140000
DTSTAMP:20260420T120110
CREATED:20260111T223904Z
LAST-MODIFIED:20260111T223905Z
UID:11935-1769680800-1769695200@pathfinders.ngo
SUMMARY:Family and Youth Drop In Hub - Ashford
DESCRIPTION:Inverell Family and Youth Support Service invite you to attend their Family and Youth Drop In Hub this school holidays in Ashford! \n\n\n\nYouth and families are welcome to come participate in fun activities for all ages\, with a morning tea and lunch provided. \n\n\n\nActivities will include daily cooking\, sensory make and play\, all ages craft activities\, and a range of outdoor activities! \n\n\n\n𝗪𝗵𝗲𝗿𝗲: LALC Building Albury Street\, Ashford \n\n\n\n𝗪𝗵𝗲𝗻: Thursday 29th January \n\n\n\nOpen from 10am-2pm each day. \n\n\n\nNo booking required! \n\n\n\nProudly funded by BEST Community Shed.
URL:https://pathfinders.ngo/event/family-and-youth-drop-in-hub-ashford-3/
CATEGORIES:Bunbun Playgroup,Inverell Family & Youth Support Service
ATTACH;FMTTYPE=image/jpeg:https://pathfinders.ngo/wp-content/uploads/2026/01/IFYSS-Youth-Drop-in-Hub-3.jpg
END:VEVENT
BEGIN:VEVENT
DTSTART;TZID=Australia/Sydney:20260122T100000
DTEND;TZID=Australia/Sydney:20260122T140000
DTSTAMP:20260420T120110
CREATED:20260111T223500Z
LAST-MODIFIED:20260111T223501Z
UID:11931-1769076000-1769090400@pathfinders.ngo
SUMMARY:Family and Youth Drop in Hub - Ashford
DESCRIPTION:Inverell Family and Youth Support Service invite you to attend their Family and Youth Drop In Hub this school holidays in Ashford! \n\n\n\nYouth and families are welcome to come participate in fun activities for all ages\, with a morning tea and lunch provided. \n\n\n\nActivities will include daily cooking\, sensory make and play\, all ages craft activities\, and a range of outdoor activities! \n\n\n\n𝗪𝗵𝗲𝗿𝗲: LALC Building Albury Street\, Ashford \n\n\n\n𝗪𝗵𝗲𝗻: Thursday 22nd January \n\n\n\nOpen from 10am-2pm each day. \n\n\n\nNo booking required! \n\n\n\nProudly funded by BEST Community Shed.
URL:https://pathfinders.ngo/event/family-and-youth-drop-in-hub-ashford-2/
CATEGORIES:Bunbun Playgroup,Inverell Family & Youth Support Service
ATTACH;FMTTYPE=image/jpeg:https://pathfinders.ngo/wp-content/uploads/2026/01/IFYSS-Youth-Drop-in-Hub-2.jpg
END:VEVENT
BEGIN:VEVENT
DTSTART;TZID=Australia/Sydney:20260121T100000
DTEND;TZID=Australia/Sydney:20260121T120000
DTSTAMP:20260420T120110
CREATED:20260108T231827Z
LAST-MODIFIED:20260108T231828Z
UID:11904-1768989600-1768996800@pathfinders.ngo
SUMMARY:Inverell & Glen Innes Services – Networking Morning Tea
DESCRIPTION:Pathfinders warmly invites local services in Inverell and Glen Innes to join us for a morning tea networking session. \n\n\n\nThis session will introduce our Integrated Domestic and Family Violence Service (IDFVS) and provide an overview of other Pathfinders programs supporting children\, young people and families across the region. It’s also a chance to connect with colleagues\, share knowledge\, and strengthen local partnerships. \n\n\n\nPrograms represented include:Integrated Domestic and Family Violence Service (IDFVS)Specialist Homelessness Services (SHS)Aboriginal Early Years Program (AEYP)Inverell Family & Youth Support Service (IFYSS)Support Your Path (SYP) \n\n\n\nVenue: Pathfinders Inverell Office – Training RoomMorning tea will be provided
URL:https://pathfinders.ngo/event/inverell-glen-innes-services-networking-morning-tea/
END:VEVENT
BEGIN:VEVENT
DTSTART;TZID=Australia/Sydney:20260115T100000
DTEND;TZID=Australia/Sydney:20260115T140000
DTSTAMP:20260420T120110
CREATED:20260109T034026Z
LAST-MODIFIED:20260111T223553Z
UID:11912-1768471200-1768485600@pathfinders.ngo
SUMMARY:Family and Youth Drop In Hub - Ashford
DESCRIPTION:Inverell Family and Youth Support Service invite you to attend their Family and Youth Drop In Hub this school holidays in Ashford!  \n\n\n\nYouth and families are welcome to come participate in fun activities for all ages\, with a morning tea and lunch provided. \n\n\n\nActivities will include daily cooking\, sensory make and play\, all ages craft activities\, and a range of outdoor activities! \n\n\n\n𝗪𝗵𝗲𝗿𝗲: Ashford School COLA\, Ashford \n\n\n\n𝗪𝗵𝗲𝗻: Thursday 15th January \n\n\n\nOpen from 10am-2pm each day. \n\n\n\nNo booking required! \n\n\n\nProudly funded by BEST Community Shed.
URL:https://pathfinders.ngo/event/family-and-youth-drop-in-hub-ashford/
CATEGORIES:Bunbun Playgroup,Inverell Family & Youth Support Service
ATTACH;FMTTYPE=image/jpeg:https://pathfinders.ngo/wp-content/uploads/2026/01/IFYSS-Youth-Drop-in-Hub-2.jpg
END:VEVENT
BEGIN:VEVENT
DTSTART;TZID=Australia/Sydney:20260114T163000
DTEND;TZID=Australia/Sydney:20260114T193000
DTSTAMP:20260420T120110
CREATED:20260112T211452Z
LAST-MODIFIED:20260112T211452Z
UID:11944-1768408200-1768419000@pathfinders.ngo
SUMMARY:Twilight Community Fair - Inverell
DESCRIPTION:Pathfinders programs Inverell Family and Youth Support Service (IFYSS)\, Specialist Homelessness Services (SHS) and Integrated Domestic and Family Violence Service (IDFVS) will be attending the Twilight Community Fair in Inverell\, delivering activities and engaging with local families\, young people and services. \n\n\n\nDate: Wednesday 14 January 2026Time: 4:30pm – 7:30pmLocation: Victoria Park\, Inverell \n\n\n\nStaff attending will be representing Pathfinders and supporting program activities throughout the event.
URL:https://pathfinders.ngo/event/twilight-community-fair-inverell/
CATEGORIES:Domestic Violence,Inverell Family & Youth Support Service,Specialist Homelessness Services
END:VEVENT
BEGIN:VEVENT
DTSTART;TZID=Australia/Sydney:20250914T080000
DTEND;TZID=Australia/Sydney:20250920T170000
DTSTAMP:20260420T120110
CREATED:20250827T231028Z
LAST-MODIFIED:20250827T231028Z
UID:11380-1757836800-1758387600@pathfinders.ngo
SUMMARY:Foster Care Week 2025 – Time to Care
DESCRIPTION:Foster Care Week is an annual event that celebrates and raises awareness of foster care and the incredible people who provide safe\, nurturing homes for children and young people in need. \n\n\n\nThe events and celebrations held during this week highlight and appreciate the valuable role of foster carers and the life-changing difference they make in the lives of vulnerable children and young people across our communities. \n\n\n\nThis year’s theme\, “Time to Care”\, reminds us that foster carers give their time\, patience\, and love every single day. With fewer carers and increasing demand\, now is the time to recognise\, support\, and strengthen foster care. \n\n\n\nNow\, more than ever\, it’s Time to Care.
URL:https://pathfinders.ngo/event/foster-care-week-2025-time-to-care/
END:VEVENT
BEGIN:VEVENT
DTSTART;TZID=Australia/Sydney:20250911T090000
DTEND;TZID=Australia/Sydney:20250911T110000
DTSTAMP:20260420T120110
CREATED:20250827T230539Z
LAST-MODIFIED:20250827T230540Z
UID:11377-1757581200-1757588400@pathfinders.ngo
SUMMARY:RUOK? Day Breakfast in the Park
DESCRIPTION:RUOK? Day – Breakfast in the Park  \n\n\n\nJoin Pathfinders this RUOK? Day\, Thursday 11 September\, for a free community breakfast in the park. \n\n\n\nEnjoy delicious bacon & egg rolls\, tea\, coffee\, and take part in wellbeing activities as we come together to connect\, check in and support one another. \n\n\n\nWe invite and welcome all community members and local organisations to join us. \n\n\n\nLocation: Sinclair Park\, Inverell \n\n\n\nTime: From 9:00 am – 11:00 am \n\n\n\nThis event is sponsored by Woolworths Inverell and Sapphire City Meats Inverell.
URL:https://pathfinders.ngo/event/ruok-day-breakfast-in-the-park/
END:VEVENT
BEGIN:VEVENT
DTSTART;TZID=Australia/Sydney:20250813T100000
DTEND;TZID=Australia/Sydney:20250813T140000
DTSTAMP:20260420T120110
CREATED:20250801T011150Z
LAST-MODIFIED:20250801T011151Z
UID:11322-1755079200-1755093600@pathfinders.ngo
SUMMARY:PNABC sign up event - Palmerston NT
DESCRIPTION:Pathfinders is proud to host a National Aboriginal Birth Certificate Program event in Darwin\, offering free birth certificates for Aboriginal and Torres Strait Islander people. \n\n\n\nThe event will take place on Wednesday\, 13 August 2025\, from 10:00 am to 2:00 pm\, at 3D/17 University Drive\, Palmerston NT. Community members are encouraged to attend and take advantage of this important opportunity to obtain a birth certificate free of charge.
URL:https://pathfinders.ngo/event/pnabc-sign-up-event-palmerston-nt/
END:VEVENT
BEGIN:VEVENT
DTSTART;TZID=Australia/Sydney:20250812T100000
DTEND;TZID=Australia/Sydney:20250812T160000
DTSTAMP:20260420T120110
CREATED:20250801T011516Z
LAST-MODIFIED:20250801T011517Z
UID:11324-1754992800-1755014400@pathfinders.ngo
SUMMARY:Pathfinders Darwin Office - Offical Opening
DESCRIPTION:Pathfinders is excited to announce the official opening of its first office in Darwin\, located at 2D/17 University Drive\, Palmerston NT. \n\n\n\nTo mark this milestone\, the public is warmly invited to join us for a community open day on Tuesday\, 12 August 2025\, from 10:00 am to 4:00 pm. Guests will have the opportunity to meet the team\, explore Pathfinders’ programs\, and help celebrate our growing presence in the Northern Territory.
URL:https://pathfinders.ngo/event/pathfinders-darwin-office-offical-opening/
END:VEVENT
BEGIN:VEVENT
DTSTART;TZID=Australia/Sydney:20250804T080000
DTEND;TZID=Australia/Sydney:20250810T170000
DTSTAMP:20260420T120110
CREATED:20250801T011627Z
LAST-MODIFIED:20250801T011628Z
UID:11329-1754294400-1754845200@pathfinders.ngo
SUMMARY:National Homelessness Week
DESCRIPTION:Hosted by Homelessness Australia\, Homelessness Week is held each year to build community support and drive government action to end homelessness. Throughout the week\, services and community groups across the country will raise awareness\, share solutions\, and advocate for change through local events\, media\, and social media campaigns. \n\n\n\nThe theme for 2025 is “Homelessness Action Now.”
URL:https://pathfinders.ngo/event/national-homelessness-week/
END:VEVENT
BEGIN:VEVENT
DTSTART;TZID=Australia/Sydney:20250804T000000
DTEND;TZID=Australia/Sydney:20250804T235959
DTSTAMP:20260420T120110
CREATED:20250116T230609Z
LAST-MODIFIED:20250116T230611Z
UID:10641-1754265600-1754351999@pathfinders.ngo
SUMMARY:National Aboriginal and Torres Strait Islander Children's Day
DESCRIPTION:National Aboriginal and Torres Strait Islander Children’s Day is our national day dedicated to celebrating our children and has been held every year on the 4 August since 1988. \n\n\n\nNational Children’s Day gives all Australians the opportunity to show their support for Aboriginal and Torres Strait Islander children and learn about the impact that culture\, family and community play in the life of every Aboriginal and Torres Strait Islander child.
URL:https://pathfinders.ngo/event/national-aboriginal-and-torres-strait-islander-childrens-day/
CATEGORIES:Aboriginal Early Years Program,Family Connect and Support,Foster Care,Inverell Family & Youth Support Service,Out of Home Care
END:VEVENT
BEGIN:VEVENT
DTSTART;TZID=Australia/Sydney:20250710T100000
DTEND;TZID=Australia/Sydney:20250710T150000
DTSTAMP:20260420T120110
CREATED:20250619T022942Z
LAST-MODIFIED:20250619T022942Z
UID:11189-1752141600-1752159600@pathfinders.ngo
SUMMARY:NAIDOC Family Fun Day - Armidale
DESCRIPTION:Pathfinders is teaming up with Basketball NSW for a fun-filled NAIDOC Week Family Fun Day in Armidale!  \n\n\n\nThere will be entertainment throughout the day\, a variety of craft stalls to explore\, and a FREE BBQ lunch generously provided and run by Services Our Way. \n\n\n\nBasketball activities will be available for everyone\, including fun introductory sessions for children aged 4 to 10\, and exciting 3×3 basketball games for young people aged 8 to 17. \n\n\n\n Register to play here: https://shorter.me/rD3qM \n\n\n\nCome along for a great day out! – We can’t wait to see you there!
URL:https://pathfinders.ngo/event/naidoc-family-fun-day-armidale/
END:VEVENT
BEGIN:VEVENT
DTSTART;TZID=Australia/Sydney:20250710T013000
DTEND;TZID=Australia/Sydney:20250710T020000
DTSTAMP:20260420T120110
CREATED:20250704T030717Z
LAST-MODIFIED:20250704T030718Z
UID:11225-1752111000-1752112800@pathfinders.ngo
SUMMARY:Hastings NAIDOC Family Fun Day -
DESCRIPTION:Hastings NAIDOC Family Fun Day \n\n\n\nJoin us for the NAIDOC Family Fun Day in Wauchope on Thursday 11 July! \n\n\n\nBring the whole family for a day filled with exciting activities and cultural celebrations hosted by the Hastings NAIDOC planning committee. Enjoy performances by local dance groups\, pony rides\, a reptile show\, Elders circle. Dance to the beats of the DJ\, experience a silent disco\, and visit the petting zoo. \n\n\n\nVisit the Council stall for a badge-making activity\, learn about the Sea Country project and our furry friends. \n\n\n\nDon’t miss this fantastic opportunity to celebrate NAIDOC Week with fun for everyone.
URL:https://pathfinders.ngo/event/hastings-naidoc-family-fun-day/
END:VEVENT
BEGIN:VEVENT
DTSTART;TZID=Australia/Sydney:20250708T110000
DTEND;TZID=Australia/Sydney:20250708T140000
DTSTAMP:20260420T120110
CREATED:20250704T030436Z
LAST-MODIFIED:20250704T030437Z
UID:11223-1751972400-1751983200@pathfinders.ngo
SUMMARY:Homes North and Pathfinders NAIDOC Event - Armidale
DESCRIPTION:Homes North\, WAS\, and Pathfinders Youth Refuge.  \n\n\n\nPhoto Booth\, Burning and Painting Walking Sticks\, Boomerang painting\, Bead making and a Free BBQ.
URL:https://pathfinders.ngo/event/homes-north-and-pathfinders-naidoc-event-armidale/
END:VEVENT
BEGIN:VEVENT
DTSTART;TZID=Australia/Sydney:20250706T000000
DTEND;TZID=Australia/Sydney:20250713T235959
DTSTAMP:20260420T120110
CREATED:20250116T235846Z
LAST-MODIFIED:20250116T235847Z
UID:10647-1751760000-1752451199@pathfinders.ngo
SUMMARY:NAIDOC Week 2025
DESCRIPTION:NAIDOC Week marks a powerful milestone: 50 years of honoring and elevating Indigenous voices\, culture\, and resilience. The 2025 theme\, “The Next Generation: Strength\, Vision & Legacy\,” celebrates not only the achievements of the past but the bright future ahead\, empowered by the strength of our young leaders\, the vision of our communities\, and the legacy of our ancestors. 
URL:https://pathfinders.ngo/event/naidoc-week-2025/
CATEGORIES:Aboriginal Early Years Program,Momentum,National Aboriginal Birth Certificate
END:VEVENT
BEGIN:VEVENT
DTSTART;TZID=Australia/Sydney:20250614T100000
DTEND;TZID=Australia/Sydney:20250614T110000
DTSTAMP:20260420T120110
CREATED:20241205T035957Z
LAST-MODIFIED:20241205T035959Z
UID:10517-1749895200-1749898800@pathfinders.ngo
SUMMARY:ONLINE: The Impact of Trauma on Child Development
DESCRIPTION:This training event explores the significant effects of trauma on the developmental processes and outcomes in children. \n\n\n\nThis session will be facilitated by Continuum Consulting.Register Here
URL:https://pathfinders.ngo/event/online-the-impact-of-trauma-on-child-development-3/
CATEGORIES:Foster Care,Out of Home Care
END:VEVENT
BEGIN:VEVENT
DTSTART;TZID=Australia/Sydney:20250604T190000
DTEND;TZID=Australia/Sydney:20250604T200000
DTSTAMP:20260420T120110
CREATED:20241205T035633Z
LAST-MODIFIED:20241205T035634Z
UID:10515-1749063600-1749067200@pathfinders.ngo
SUMMARY:ONLINE: The Impact of Trauma on Child Development
DESCRIPTION:This training event explores the significant effects of trauma on the developmental processes and outcomes in children. \n\n\n\nThis session will be facilitated by Continuum Consulting.Register Here
URL:https://pathfinders.ngo/event/online-the-impact-of-trauma-on-child-development-2/
CATEGORIES:Foster Care,Out of Home Care
END:VEVENT
BEGIN:VEVENT
DTSTART;TZID=Australia/Sydney:20250603T100000
DTEND;TZID=Australia/Sydney:20250603T110000
DTSTAMP:20260420T120110
CREATED:20250113T001416Z
LAST-MODIFIED:20250113T001417Z
UID:10623-1748944800-1748948400@pathfinders.ngo
SUMMARY:ONLINE: The Impact of Trauma on Child Development
DESCRIPTION:This training event explores the significant effects of trauma on the developmental processes and \n\n\n\noutcomes in children. \n\n\n\nThis session will be facilitated by Continuum Consulting.Register Here
URL:https://pathfinders.ngo/event/online-the-impact-of-trauma-on-child-development-4/
CATEGORIES:Foster Care
END:VEVENT
BEGIN:VEVENT
DTSTART;TZID=Australia/Sydney:20250527T000000
DTEND;TZID=Australia/Sydney:20250603T235959
DTSTAMP:20260420T120110
CREATED:20250116T233452Z
LAST-MODIFIED:20250116T233454Z
UID:10644-1748304000-1748995199@pathfinders.ngo
SUMMARY:National Reconciliation Week
DESCRIPTION:Bridging Now to Next urges us to look ahead and continue the push forward as past lessons guide us. \n\n\n\nAt a time when Australia faces uncertainty in its reconciliation journey\, this theme calls on all Australians to step forward together.
URL:https://pathfinders.ngo/event/national-reconciliation-week/
CATEGORIES:Aboriginal Early Years Program,Family Connect and Support,Foster Care,Inverell Family & Youth Support Service,Momentum,National Aboriginal Birth Certificate,Out of Home Care
END:VEVENT
BEGIN:VEVENT
DTSTART;TZID=Australia/Sydney:20250512T000000
DTEND;TZID=Australia/Sydney:20250518T235959
DTSTAMP:20260420T120110
CREATED:20250117T000938Z
LAST-MODIFIED:20250117T000939Z
UID:10650-1747008000-1747612799@pathfinders.ngo
SUMMARY:National Families Week 2025
DESCRIPTION:National Families Week 2025 will take place from 12 to 18 May 2025. \n\n\n\nThe theme for 2025 is: \n\n\n\n“Lending a Hand to Thrive – Supporting Each Other.”
URL:https://pathfinders.ngo/event/national-families-week-2025/
CATEGORIES:Aboriginal Early Years Program,Bunbun Playgroup,Family Connect and Support,Foster Care,Inverell Family & Youth Support Service,Out of Home Care
END:VEVENT
END:VCALENDAR