BEGIN:VCALENDAR
VERSION:2.0
PRODID:-//Pathfinders - ECPv6.15.18//NONSGML v1.0//EN
CALSCALE:GREGORIAN
METHOD:PUBLISH
X-WR-CALNAME:Pathfinders
X-ORIGINAL-URL:https://pathfinders.ngo
X-WR-CALDESC:Events for Pathfinders
REFRESH-INTERVAL;VALUE=DURATION:PT1H
X-Robots-Tag:noindex
X-PUBLISHED-TTL:PT1H
BEGIN:VTIMEZONE
TZID:Australia/Sydney
BEGIN:STANDARD
TZOFFSETFROM:+1100
TZOFFSETTO:+1000
TZNAME:AEST
DTSTART:20250405T160000
END:STANDARD
BEGIN:DAYLIGHT
TZOFFSETFROM:+1000
TZOFFSETTO:+1100
TZNAME:AEDT
DTSTART:20251004T160000
END:DAYLIGHT
BEGIN:STANDARD
TZOFFSETFROM:+1100
TZOFFSETTO:+1000
TZNAME:AEST
DTSTART:20260404T160000
END:STANDARD
BEGIN:DAYLIGHT
TZOFFSETFROM:+1000
TZOFFSETTO:+1100
TZNAME:AEDT
DTSTART:20261003T160000
END:DAYLIGHT
BEGIN:STANDARD
TZOFFSETFROM:+1100
TZOFFSETTO:+1000
TZNAME:AEST
DTSTART:20270403T160000
END:STANDARD
BEGIN:DAYLIGHT
TZOFFSETFROM:+1000
TZOFFSETTO:+1100
TZNAME:AEDT
DTSTART:20271002T160000
END:DAYLIGHT
END:VTIMEZONE
BEGIN:VEVENT
DTSTART;TZID=Australia/Sydney:20260308T000000
DTEND;TZID=Australia/Sydney:20260308T235959
DTSTAMP:20260420T045007
CREATED:20260112T212056Z
LAST-MODIFIED:20260113T000134Z
UID:11946-1772928000-1773014399@pathfinders.ngo
SUMMARY:International Women's Day
DESCRIPTION:International Women’s Day is celebrated on 8 March\, commemorating women’s fight for equality and liberation along with the women’s rights movement. International Women’s Day gives focus to issues such as gender equality\, reproductive rights\, and violence and abuse against women. 
URL:https://pathfinders.ngo/event/international-womens-day-2026/
ATTACH;FMTTYPE=image/jpeg:https://pathfinders.ngo/wp-content/uploads/2026/01/IWD-2026.jpg
END:VEVENT
BEGIN:VEVENT
DTSTART;TZID=Australia/Sydney:20260316T000000
DTEND;TZID=Australia/Sydney:20260322T235959
DTSTAMP:20260420T045007
CREATED:20260112T212454Z
LAST-MODIFIED:20260113T000151Z
UID:11949-1773619200-1774223999@pathfinders.ngo
SUMMARY:Harmony Week
DESCRIPTION:Harmony Week is the celebration that recognises our diversity and brings together Australians from all different backgrounds. It’s about inclusiveness\, respect and a sense of belonging for everyone.
URL:https://pathfinders.ngo/event/harmony-week-2026/
ATTACH;FMTTYPE=image/jpeg:https://pathfinders.ngo/wp-content/uploads/2026/01/harmony-week.jpg
END:VEVENT
BEGIN:VEVENT
DTSTART;TZID=Australia/Sydney:20260319T000000
DTEND;TZID=Australia/Sydney:20260319T235959
DTSTAMP:20260420T045007
CREATED:20260112T212908Z
LAST-MODIFIED:20260113T000207Z
UID:11952-1773878400-1773964799@pathfinders.ngo
SUMMARY:Close the Gap Day
DESCRIPTION:National Close the Gap Day is an annual event in Australia\, held on the third Thursday of March\, to raise awareness and advocate for health equality and improved life outcomes for Aboriginal and Torres Strait Islander peoples\, focusing on areas like health\, education\, housing\, and justice\, aiming to close the gap in life expectancy and other key socio-economic indicators by supporting genuine partnership and culturally safe service. 
URL:https://pathfinders.ngo/event/close-the-gap-day-2026/
END:VEVENT
BEGIN:VEVENT
DTSTART;TZID=Australia/Sydney:20260321T000000
DTEND;TZID=Australia/Sydney:20260321T235959
DTSTAMP:20260420T045007
CREATED:20260112T214843Z
LAST-MODIFIED:20260113T000224Z
UID:11954-1774051200-1774137599@pathfinders.ngo
SUMMARY:The United Nations International Day for the Elimination of Racial Discrimination
DESCRIPTION:March 21\, globally is marked as the International Day for the Elimination against Racism. We remember victims of the 1960\, Sharpeville\, Massacre\, in South Africa. We hear the voices of survivors – of the peaceful protests\, who stood up against racism. 
URL:https://pathfinders.ngo/event/the-united-nations-international-day-for-the-elimination-of-racial-discrimination-2026/
END:VEVENT
BEGIN:VEVENT
DTSTART;TZID=Australia/Sydney:20260321T000000
DTEND;TZID=Australia/Sydney:20260321T235959
DTSTAMP:20260420T045007
CREATED:20260112T215139Z
LAST-MODIFIED:20260112T215140Z
UID:11956-1774051200-1774137599@pathfinders.ngo
SUMMARY:Harmony Day 2026
DESCRIPTION:Harmony Day 2026 is part of Harmony Week\, which runs from March 16 to 22\, 2026\, celebrating Australia’s cultural diversity and promoting inclusion\, respect\, and belonging for everyone. 
URL:https://pathfinders.ngo/event/harmony-day-2026/
ATTACH;FMTTYPE=image/jpeg:https://pathfinders.ngo/wp-content/uploads/2026/01/au-harmony-day.jpg
END:VEVENT
END:VCALENDAR